BEGIN:VCALENDAR
VERSION:2.0
PRODID:-//Contratero//ES
CALSCALE:GREGORIAN
METHOD:PUBLISH
BEGIN:VEVENT
UID:57/21 AYTOPARLA@contratero.es
DTSTAMP:20260422T130536Z
DTSTART:20210917T235959
DTEND:20210918T005959
SUMMARY:Cierre: Suministro\, instalación\, configuración\, puesta en 
DESCRIPTION:Suministro\, instalación\, configuración\, puesta en marcha y mantenimiento de una solución informática para la gestión del padrón municipal de habitantes\, la sede electrónica municipal\, plataforma de se...\\n\\nOrganismo: Junta de Gobierno del Ayuntamiento de Parla\\n\\nVer en Contratero: https://contratero.es/contracts/57/21 AYTOPARLA
URL:https://contratero.es/contracts/57/21 AYTOPARLA
STATUS:CONFIRMED
BEGIN:VALARM
TRIGGER:-P1D
ACTION:DISPLAY
DESCRIPTION:Recordatorio: Suministro\, instalación\, confi
END:VALARM
END:VEVENT
END:VCALENDAR